Package: webbioc Version: 1.74.0 Command: /Library/Frameworks/R.framework/Resources/bin/R CMD check --install=check:webbioc.install-out.txt --library=/Library/Frameworks/R.framework/Resources/library --no-vignettes --timings webbioc_1.74.0.tar.gz StartedAt: 2024-04-16 10:29:26 -0400 (Tue, 16 Apr 2024) EndedAt: 2024-04-16 10:32:34 -0400 (Tue, 16 Apr 2024) EllapsedTime: 188.4 seconds RetCode: 0 Status: OK CheckDir: webbioc.Rcheck Warnings: 0