Package: webbioc Version: 1.74.0 Command: /Library/Frameworks/R.framework/Resources/bin/R CMD build --keep-empty-dirs --no-resave-data webbioc StartedAt: 2024-03-03 18:42:37 -0500 (Sun, 03 Mar 2024) EndedAt: 2024-03-03 18:43:09 -0500 (Sun, 03 Mar 2024) EllapsedTime: 32.6 seconds RetCode: 0 Status: OK PackageFile: webbioc_1.74.0.tar.gz PackageFileSize: 310.6 KiB