Package: weaver Version: 1.68.0 Command: F:\biocbuild\bbs-3.18-bioc\R\bin\R.exe CMD INSTALL weaver StartedAt: 2024-04-15 15:56:21 -0400 (Mon, 15 Apr 2024) EndedAt: 2024-04-15 15:56:25 -0400 (Mon, 15 Apr 2024) EllapsedTime: 3.9 seconds RetCode: 0 Status: OK