Package: weaver Version: 1.68.0 Command: rm -rf weaver.buildbin-libdir && mkdir weaver.buildbin-libdir && F:\biocbuild\bbs-3.18-bioc\R\bin\R.exe CMD INSTALL --build --library=weaver.buildbin-libdir weaver_1.68.0.tar.gz StartedAt: 2024-04-16 07:51:17 -0400 (Tue, 16 Apr 2024) EndedAt: 2024-04-16 07:51:25 -0400 (Tue, 16 Apr 2024) EllapsedTime: 8.2 seconds RetCode: 0 Status: OK PackageFile: weaver_1.68.0.zip PackageFileSize: 130.7 KiB