Package: weaver Version: 1.68.0 Command: /home/biocbuild/bbs-3.18-bioc/R/bin/R CMD INSTALL weaver StartedAt: 2024-04-15 15:22:38 -0400 (Mon, 15 Apr 2024) EndedAt: 2024-04-15 15:22:40 -0400 (Mon, 15 Apr 2024) EllapsedTime: 2.2 seconds RetCode: 0 Status: OK