Package: weaver Version: 1.68.0 Command: /Library/Frameworks/R.framework/Resources/bin/R CMD build --keep-empty-dirs --no-resave-data weaver StartedAt: 2024-04-15 22:49:15 -0400 (Mon, 15 Apr 2024) EndedAt: 2024-04-15 22:49:26 -0400 (Mon, 15 Apr 2024) EllapsedTime: 11.9 seconds RetCode: 0 Status: OK PackageFile: weaver_1.68.0.tar.gz PackageFileSize: 231.4 KiB