Package: weaver Version: 1.68.0 Command: /Library/Frameworks/R.framework/Resources/bin/R CMD INSTALL weaver StartedAt: 2024-03-03 15:12:52 -0500 (Sun, 03 Mar 2024) EndedAt: 2024-03-03 15:12:59 -0500 (Sun, 03 Mar 2024) EllapsedTime: 7.1 seconds RetCode: 0 Status: OK