Package: weaver Version: 1.68.0 Command: /Library/Frameworks/R.framework/Resources/bin/R CMD check --install=check:weaver.install-out.txt --library=/Library/Frameworks/R.framework/Resources/library --no-vignettes --timings weaver_1.68.0.tar.gz StartedAt: 2024-03-04 00:12:08 -0500 (Mon, 04 Mar 2024) EndedAt: 2024-03-04 00:12:33 -0500 (Mon, 04 Mar 2024) EllapsedTime: 24.9 seconds RetCode: 0 Status: WARNINGS CheckDir: weaver.Rcheck Warnings: 1