Package: weaver Version: 1.68.0 Command: /Library/Frameworks/R.framework/Resources/bin/R CMD build --keep-empty-dirs --no-resave-data weaver StartedAt: 2024-03-03 18:42:29 -0500 (Sun, 03 Mar 2024) EndedAt: 2024-03-03 18:42:38 -0500 (Sun, 03 Mar 2024) EllapsedTime: 9.1 seconds RetCode: 0 Status: OK PackageFile: weaver_1.68.0.tar.gz PackageFileSize: 231.8 KiB