Package: weaver Version: 1.68.0 Command: rm -rf weaver.buildbin-libdir && mkdir weaver.buildbin-libdir && /Users/biocbuild/BBS/utils/build-universal.sh weaver_1.68.0.tar.gz /Library/Frameworks/R.framework/Resources/bin/R weaver.buildbin-libdir StartedAt: 2024-03-04 01:10:35 -0500 (Mon, 04 Mar 2024) EndedAt: 2024-03-04 01:10:40 -0500 (Mon, 04 Mar 2024) EllapsedTime: 4.5 seconds RetCode: 0 Status: OK PackageFile: weaver_1.68.0.tgz PackageFileSize: 271.9 KiB