Package: weaver Version: 1.68.0 Command: /home/biocbuild/R/R-4.3.1/bin/R CMD check --install=check:weaver.install-out.txt --library=/home/biocbuild/R/R-4.3.1/site-library --no-vignettes --timings weaver_1.68.0.tar.gz StartedAt: 2023-11-02 15:11:29 -0000 (Thu, 02 Nov 2023) EndedAt: 2023-11-02 15:11:45 -0000 (Thu, 02 Nov 2023) EllapsedTime: 16.0 seconds RetCode: 0 Status: WARNINGS CheckDir: weaver.Rcheck Warnings: 1