Package: wavClusteR Version: 2.36.0 Command: /Library/Frameworks/R.framework/Resources/bin/R CMD build --keep-empty-dirs --no-resave-data wavClusteR StartedAt: 2024-03-03 18:42:27 -0500 (Sun, 03 Mar 2024) EndedAt: 2024-03-03 18:43:38 -0500 (Sun, 03 Mar 2024) EllapsedTime: 71.9 seconds RetCode: 0 Status: OK PackageFile: wavClusteR_2.36.0.tar.gz PackageFileSize: 731.2 KiB