Package: wavClusteR Version: 2.36.0 Command: rm -rf wavClusteR.buildbin-libdir && mkdir wavClusteR.buildbin-libdir && /Users/biocbuild/BBS/utils/build-universal.sh wavClusteR_2.36.0.tar.gz /Library/Frameworks/R.framework/Resources/bin/R wavClusteR.buildbin-libdir StartedAt: 2024-03-04 01:10:35 -0500 (Mon, 04 Mar 2024) EndedAt: 2024-03-04 01:11:33 -0500 (Mon, 04 Mar 2024) EllapsedTime: 57.5 seconds RetCode: 0 Status: OK PackageFile: wavClusteR_2.36.0.tgz PackageFileSize: 834.6 KiB