Package: wavClusteR Version: 2.36.0 Command: /home/biocbuild/R/R-4.3.1/bin/R CMD INSTALL wavClusteR StartedAt: 2023-11-01 20:35:25 -0000 (Wed, 01 Nov 2023) EndedAt: 2023-11-01 20:36:19 -0000 (Wed, 01 Nov 2023) EllapsedTime: 53.7 seconds RetCode: 0 Status: OK