Package: wateRmelon Version: 2.8.0 Command: /home/biocbuild/bbs-3.18-bioc/R/bin/R CMD build --keep-empty-dirs --no-resave-data wateRmelon StartedAt: 2024-04-15 19:45:35 -0400 (Mon, 15 Apr 2024) EndedAt: 2024-04-15 19:47:02 -0400 (Mon, 15 Apr 2024) EllapsedTime: 86.3 seconds RetCode: 0 Status: OK PackageFile: wateRmelon_2.8.0.tar.gz PackageFileSize: 3.258 MiB