Package: wateRmelon Version: 2.8.0 Command: /Library/Frameworks/R.framework/Resources/bin/R CMD build --keep-empty-dirs --no-resave-data wateRmelon StartedAt: 2024-04-15 22:49:00 -0400 (Mon, 15 Apr 2024) EndedAt: 2024-04-15 22:52:01 -0400 (Mon, 15 Apr 2024) EllapsedTime: 181.2 seconds RetCode: 0 Status: OK PackageFile: wateRmelon_2.8.0.tar.gz PackageFileSize: 3.271 MiB