Package: wateRmelon Version: 2.8.0 Command: /Library/Frameworks/R.framework/Resources/bin/R CMD check --install=check:wateRmelon.install-out.txt --library=/Library/Frameworks/R.framework/Resources/library --no-vignettes --timings wateRmelon_2.8.0.tar.gz StartedAt: 2024-03-04 00:11:35 -0500 (Mon, 04 Mar 2024) EndedAt: 2024-03-04 00:18:26 -0500 (Mon, 04 Mar 2024) EllapsedTime: 410.5 seconds RetCode: 0 Status: WARNINGS CheckDir: wateRmelon.Rcheck Warnings: 3