Package: wateRmelon Version: 2.8.0 Command: /Library/Frameworks/R.framework/Resources/bin/R CMD build --keep-empty-dirs --no-resave-data wateRmelon StartedAt: 2024-03-03 18:42:14 -0500 (Sun, 03 Mar 2024) EndedAt: 2024-03-03 18:43:57 -0500 (Sun, 03 Mar 2024) EllapsedTime: 103.2 seconds RetCode: 0 Status: OK PackageFile: wateRmelon_2.8.0.tar.gz PackageFileSize: 3.267 MiB