Package: wateRmelon Version: 2.8.0 Command: /home/biocbuild/R/R-4.3.1/bin/R CMD INSTALL wateRmelon StartedAt: 2023-11-01 20:58:42 -0000 (Wed, 01 Nov 2023) EndedAt: 2023-11-01 21:00:02 -0000 (Wed, 01 Nov 2023) EllapsedTime: 79.7 seconds RetCode: 0 Status: OK