Package: waddR Version: 1.16.0 Command: rm -rf waddR.buildbin-libdir && mkdir waddR.buildbin-libdir && F:\biocbuild\bbs-3.18-bioc\R\bin\R.exe CMD INSTALL --build --library=waddR.buildbin-libdir waddR_1.16.0.tar.gz StartedAt: 2024-04-16 07:51:11 -0400 (Tue, 16 Apr 2024) EndedAt: 2024-04-16 07:52:17 -0400 (Tue, 16 Apr 2024) EllapsedTime: 66.2 seconds RetCode: 0 Status: OK PackageFile: waddR_1.16.0.zip PackageFileSize: 529.7 KiB