Package: waddR Version: 1.16.0 Command: /Library/Frameworks/R.framework/Resources/bin/R CMD INSTALL waddR StartedAt: 2024-04-15 16:03:04 -0400 (Mon, 15 Apr 2024) EndedAt: 2024-04-15 16:04:42 -0400 (Mon, 15 Apr 2024) EllapsedTime: 98.7 seconds RetCode: 0 Status: OK