Package: vulcan Version: 1.23.0 Command: /home/biocbuild/R/R-4.3.1/bin/R CMD check --install=check:vulcan.install-out.txt --library=/home/biocbuild/R/R-4.3.1/site-library --timings vulcan_1.23.0.tar.gz StartedAt: 2023-10-13 14:01:39 -0000 (Fri, 13 Oct 2023) EndedAt: 2023-10-13 14:11:07 -0000 (Fri, 13 Oct 2023) EllapsedTime: 568.9 seconds RetCode: 0 Status: OK CheckDir: vulcan.Rcheck Warnings: 0