Package: vsn Version: 3.70.0 Command: rm -rf vsn.buildbin-libdir && mkdir vsn.buildbin-libdir && F:\biocbuild\bbs-3.18-bioc\R\bin\R.exe CMD INSTALL --build --library=vsn.buildbin-libdir vsn_3.70.0.tar.gz StartedAt: 2024-04-16 07:51:05 -0400 (Tue, 16 Apr 2024) EndedAt: 2024-04-16 07:51:23 -0400 (Tue, 16 Apr 2024) EllapsedTime: 17.6 seconds RetCode: 0 Status: OK PackageFile: vsn_3.70.0.zip PackageFileSize: 1.558 MiB