Package: vsn Version: 3.70.0 Command: /home/biocbuild/bbs-3.18-bioc/R/bin/R CMD check --install=check:vsn.install-out.txt --library=/home/biocbuild/bbs-3.18-bioc/R/site-library --timings vsn_3.70.0.tar.gz StartedAt: 2024-04-16 05:09:11 -0400 (Tue, 16 Apr 2024) EndedAt: 2024-04-16 05:10:57 -0400 (Tue, 16 Apr 2024) EllapsedTime: 106.4 seconds RetCode: 0 Status: OK CheckDir: vsn.Rcheck Warnings: 0