Package: vsn Version: 3.70.0 Command: /Library/Frameworks/R.framework/Resources/bin/R CMD INSTALL vsn StartedAt: 2024-04-15 15:19:01 -0400 (Mon, 15 Apr 2024) EndedAt: 2024-04-15 15:19:22 -0400 (Mon, 15 Apr 2024) EllapsedTime: 21.0 seconds RetCode: 0 Status: OK