Package: vsn Version: 3.70.0 Command: /Library/Frameworks/R.framework/Resources/bin/R CMD build --keep-empty-dirs --no-resave-data vsn StartedAt: 2024-04-15 22:47:12 -0400 (Mon, 15 Apr 2024) EndedAt: 2024-04-15 22:49:00 -0400 (Mon, 15 Apr 2024) EllapsedTime: 108.2 seconds RetCode: 0 Status: OK PackageFile: vsn_3.70.0.tar.gz PackageFileSize: 2.253 MiB