Package: vissE Version: 1.10.0 Command: /home/biocbuild/bbs-3.18-bioc/R/bin/R CMD INSTALL vissE StartedAt: 2024-04-15 15:51:13 -0400 (Mon, 15 Apr 2024) EndedAt: 2024-04-15 15:51:17 -0400 (Mon, 15 Apr 2024) EllapsedTime: 4.5 seconds RetCode: 0 Status: OK