Package: vissE Version: 1.10.0 Command: rm -rf vissE.buildbin-libdir && mkdir vissE.buildbin-libdir && /Users/biocbuild/BBS/utils/build-universal.sh vissE_1.10.0.tar.gz /Library/Frameworks/R.framework/Resources/bin/R vissE.buildbin-libdir StartedAt: 2024-04-16 12:56:25 -0400 (Tue, 16 Apr 2024) EndedAt: 2024-04-16 12:56:38 -0400 (Tue, 16 Apr 2024) EllapsedTime: 13.4 seconds RetCode: 0 Status: OK PackageFile: vissE_1.10.0.tgz PackageFileSize: 1.754 MiB