Package: vissE Version: 1.10.0 Command: /Library/Frameworks/R.framework/Resources/bin/R CMD check --install=check:vissE.install-out.txt --library=/Library/Frameworks/R.framework/Resources/library --no-vignettes --timings vissE_1.10.0.tar.gz StartedAt: 2024-03-04 00:09:51 -0500 (Mon, 04 Mar 2024) EndedAt: 2024-03-04 00:12:03 -0500 (Mon, 04 Mar 2024) EllapsedTime: 132.5 seconds RetCode: 0 Status: OK CheckDir: vissE.Rcheck Warnings: 0