Package: vissE Version: 1.10.0 Command: /Library/Frameworks/R.framework/Resources/bin/R CMD build --keep-empty-dirs --no-resave-data vissE StartedAt: 2024-03-03 18:41:45 -0500 (Sun, 03 Mar 2024) EndedAt: 2024-03-03 18:48:04 -0500 (Sun, 03 Mar 2024) EllapsedTime: 378.7 seconds RetCode: 0 Status: OK PackageFile: vissE_1.10.0.tar.gz PackageFileSize: 1.467 MiB