Package: vidger Version: 1.22.0 Command: /Library/Frameworks/R.framework/Resources/bin/R CMD INSTALL vidger StartedAt: 2024-04-15 15:54:42 -0400 (Mon, 15 Apr 2024) EndedAt: 2024-04-15 15:55:58 -0400 (Mon, 15 Apr 2024) EllapsedTime: 75.4 seconds RetCode: 0 Status: OK