Package: veloviz Version: 1.8.0 Command: chmod a+r veloviz -R && F:\biocbuild\bbs-3.18-bioc\R\bin\R.exe CMD build --keep-empty-dirs --no-resave-data veloviz StartedAt: 2024-04-15 21:54:54 -0400 (Mon, 15 Apr 2024) EndedAt: 2024-04-15 21:55:32 -0400 (Mon, 15 Apr 2024) EllapsedTime: 37.3 seconds RetCode: 0 Status: OK PackageFile: veloviz_1.8.0.tar.gz PackageFileSize: 3.536 MiB