Package: veloviz Version: 1.8.0 Command: /home/biocbuild/bbs-3.18-bioc/R/bin/R CMD build --keep-empty-dirs --no-resave-data veloviz StartedAt: 2024-04-15 19:43:42 -0400 (Mon, 15 Apr 2024) EndedAt: 2024-04-15 19:44:02 -0400 (Mon, 15 Apr 2024) EllapsedTime: 20.5 seconds RetCode: 0 Status: OK PackageFile: veloviz_1.8.0.tar.gz PackageFileSize: 3.546 MiB