Package: veloviz Version: 1.8.0 Command: rm -rf veloviz.buildbin-libdir && mkdir veloviz.buildbin-libdir && /Users/biocbuild/BBS/utils/build-universal.sh veloviz_1.8.0.tar.gz /Library/Frameworks/R.framework/Resources/bin/R veloviz.buildbin-libdir StartedAt: 2024-03-04 01:10:18 -0500 (Mon, 04 Mar 2024) EndedAt: 2024-03-04 01:10:41 -0500 (Mon, 04 Mar 2024) EllapsedTime: 22.7 seconds RetCode: 0 Status: OK PackageFile: veloviz_1.8.0.tgz PackageFileSize: 3.637 MiB