Package: veloviz Version: 1.8.0 Command: /home/biocbuild/R/R-4.3.1/bin/R CMD INSTALL veloviz StartedAt: 2023-11-01 20:09:54 -0000 (Wed, 01 Nov 2023) EndedAt: 2023-11-01 20:10:23 -0000 (Wed, 01 Nov 2023) EllapsedTime: 28.9 seconds RetCode: 0 Status: OK