Package: veloviz Version: 1.8.0 Command: /home/biocbuild/R/R-4.3.1/bin/R CMD build --keep-empty-dirs --no-resave-data veloviz StartedAt: 2023-11-02 07:23:25 -0000 (Thu, 02 Nov 2023) EndedAt: 2023-11-02 07:24:03 -0000 (Thu, 02 Nov 2023) EllapsedTime: 38.0 seconds RetCode: 0 Status: OK PackageFile: veloviz_1.8.0.tar.gz PackageFileSize: 3.569 MiB