Package: velociraptor Version: 1.12.0 Command: F:\biocbuild\bbs-3.18-bioc\R\bin\R.exe CMD INSTALL velociraptor StartedAt: 2024-04-15 16:34:39 -0400 (Mon, 15 Apr 2024) EndedAt: 2024-04-15 16:35:13 -0400 (Mon, 15 Apr 2024) EllapsedTime: 34.3 seconds RetCode: 0 Status: OK