Package: velociraptor Version: 1.12.0 Command: /Library/Frameworks/R.framework/Resources/bin/R CMD build --keep-empty-dirs --no-resave-data velociraptor StartedAt: 2024-03-03 18:41:19 -0500 (Sun, 03 Mar 2024) EndedAt: 2024-03-03 18:43:18 -0500 (Sun, 03 Mar 2024) EllapsedTime: 119.3 seconds RetCode: 0 Status: OK PackageFile: velociraptor_1.12.0.tar.gz PackageFileSize: 807.2 KiB