Package: variancePartition Version: 1.32.5 Command: /home/biocbuild/bbs-3.18-bioc/R/bin/R CMD check --install=check:variancePartition.install-out.txt --library=/home/biocbuild/bbs-3.18-bioc/R/site-library --timings variancePartition_1.32.5.tar.gz StartedAt: 2024-04-16 05:04:11 -0400 (Tue, 16 Apr 2024) EndedAt: 2024-04-16 05:32:04 -0400 (Tue, 16 Apr 2024) EllapsedTime: 1673.2 seconds RetCode: 0 Status: OK CheckDir: variancePartition.Rcheck Warnings: 0