Package: variancePartition Version: 1.32.5 Command: /Library/Frameworks/R.framework/Resources/bin/R CMD INSTALL variancePartition StartedAt: 2024-04-15 16:03:29 -0400 (Mon, 15 Apr 2024) EndedAt: 2024-04-15 16:04:16 -0400 (Mon, 15 Apr 2024) EllapsedTime: 47.7 seconds RetCode: 0 Status: OK