Package: variancePartition Version: 1.32.5 Command: /Library/Frameworks/R.framework/Resources/bin/R CMD check --install=check:variancePartition.install-out.txt --library=/Library/Frameworks/R.framework/Resources/library --no-vignettes --timings variancePartition_1.32.5.tar.gz StartedAt: 2024-04-16 10:19:50 -0400 (Tue, 16 Apr 2024) EndedAt: 2024-04-16 10:37:51 -0400 (Tue, 16 Apr 2024) EllapsedTime: 1080.4 seconds RetCode: 0 Status: OK CheckDir: variancePartition.Rcheck Warnings: 0