Package: updateObject Version: 1.6.0 Command: F:\biocbuild\bbs-3.18-bioc\R\bin\R.exe CMD INSTALL updateObject StartedAt: 2024-04-15 15:55:45 -0400 (Mon, 15 Apr 2024) EndedAt: 2024-04-15 15:55:53 -0400 (Mon, 15 Apr 2024) EllapsedTime: 7.5 seconds RetCode: 0 Status: OK