Package: updateObject Version: 1.6.0 Command: /Library/Frameworks/R.framework/Resources/bin/R CMD check --install=check:updateObject.install-out.txt --library=/Library/Frameworks/R.framework/Resources/library --no-vignettes --timings updateObject_1.6.0.tar.gz StartedAt: 2024-04-16 10:19:15 -0400 (Tue, 16 Apr 2024) EndedAt: 2024-04-16 10:21:02 -0400 (Tue, 16 Apr 2024) EllapsedTime: 107.3 seconds RetCode: 0 Status: OK CheckDir: updateObject.Rcheck Warnings: 0