Package: updateObject Version: 1.6.0 Command: /home/biocbuild/R/R-4.3.1/bin/R CMD INSTALL updateObject StartedAt: 2023-11-01 20:19:42 -0000 (Wed, 01 Nov 2023) EndedAt: 2023-11-01 20:19:48 -0000 (Wed, 01 Nov 2023) EllapsedTime: 6.0 seconds RetCode: 0 Status: OK