Package: universalmotif Version: 1.20.0 Command: rm -rf universalmotif.buildbin-libdir && mkdir universalmotif.buildbin-libdir && /Users/biocbuild/BBS/utils/build-universal.sh universalmotif_1.20.0.tar.gz /Library/Frameworks/R.framework/Resources/bin/R universalmotif.buildbin-libdir StartedAt: 2024-04-16 12:55:13 -0400 (Tue, 16 Apr 2024) EndedAt: 2024-04-16 12:59:11 -0400 (Tue, 16 Apr 2024) EllapsedTime: 238.3 seconds RetCode: 0 Status: OK PackageFile: universalmotif_1.20.0.tgz PackageFileSize: 5.567 MiB