Package: uSORT Version: 1.28.0 Command: chmod a+r uSORT -R && F:\biocbuild\bbs-3.18-bioc\R\bin\R.exe CMD build --keep-empty-dirs --no-resave-data uSORT StartedAt: 2024-04-15 21:52:57 -0400 (Mon, 15 Apr 2024) EndedAt: 2024-04-15 21:53:36 -0400 (Mon, 15 Apr 2024) EllapsedTime: 38.5 seconds RetCode: 0 Status: OK PackageFile: uSORT_1.28.0.tar.gz PackageFileSize: 2.814 MiB