Package: uSORT Version: 1.28.0 Command: /Library/Frameworks/R.framework/Resources/bin/R CMD INSTALL uSORT StartedAt: 2024-04-15 15:16:16 -0400 (Mon, 15 Apr 2024) EndedAt: 2024-04-15 15:16:57 -0400 (Mon, 15 Apr 2024) EllapsedTime: 40.4 seconds RetCode: 0 Status: OK