Package: tximport Version: 1.30.0 Maintainer: Michael Love MaintainerEmail: michaelisaiahlove at gmail.com git_url: https://git.bioconductor.org/packages/tximport git_branch: RELEASE_3_18 git_last_commit: 6c8abf4 git_last_commit_date: 2023-10-24 10:47:27 -0400 (Tue, 24 Oct 2023)