Package: tximeta Version: 1.20.3 Command: /home/biocbuild/bbs-3.18-bioc/R/bin/R CMD check --install=check:tximeta.install-out.txt --library=/home/biocbuild/bbs-3.18-bioc/R/site-library --timings tximeta_1.20.3.tar.gz StartedAt: 2024-04-16 05:00:42 -0400 (Tue, 16 Apr 2024) EndedAt: 2024-04-16 05:08:08 -0400 (Tue, 16 Apr 2024) EllapsedTime: 446.2 seconds RetCode: 0 Status: OK CheckDir: tximeta.Rcheck Warnings: 0