Package: tximeta Version: 1.20.3 Command: /Library/Frameworks/R.framework/Resources/bin/R CMD INSTALL tximeta StartedAt: 2024-04-15 16:44:46 -0400 (Mon, 15 Apr 2024) EndedAt: 2024-04-15 16:46:04 -0400 (Mon, 15 Apr 2024) EllapsedTime: 78.6 seconds RetCode: 0 Status: OK